BEGIN:VCALENDAR
VERSION:2.0
PRODID:-//Welzijn Krimpenerwaard - ECPv6.15.6//NONSGML v1.0//EN
CALSCALE:GREGORIAN
METHOD:PUBLISH
X-WR-CALNAME:Welzijn Krimpenerwaard
X-ORIGINAL-URL:https://welzijnkrimpenerwaard.com
X-WR-CALDESC:Evenementen voor Welzijn Krimpenerwaard
REFRESH-INTERVAL;VALUE=DURATION:PT1H
X-Robots-Tag:noindex
X-PUBLISHED-TTL:PT1H
BEGIN:VTIMEZONE
TZID:Europe/Amsterdam
BEGIN:DAYLIGHT
TZOFFSETFROM:+0100
TZOFFSETTO:+0200
TZNAME:CEST
DTSTART:20250330T010000
END:DAYLIGHT
BEGIN:STANDARD
TZOFFSETFROM:+0200
TZOFFSETTO:+0100
TZNAME:CET
DTSTART:20251026T010000
END:STANDARD
BEGIN:DAYLIGHT
TZOFFSETFROM:+0100
TZOFFSETTO:+0200
TZNAME:CEST
DTSTART:20260329T010000
END:DAYLIGHT
BEGIN:STANDARD
TZOFFSETFROM:+0200
TZOFFSETTO:+0100
TZNAME:CET
DTSTART:20261025T010000
END:STANDARD
BEGIN:DAYLIGHT
TZOFFSETFROM:+0100
TZOFFSETTO:+0200
TZNAME:CEST
DTSTART:20270328T010000
END:DAYLIGHT
BEGIN:STANDARD
TZOFFSETFROM:+0200
TZOFFSETTO:+0100
TZNAME:CET
DTSTART:20271031T010000
END:STANDARD
END:VTIMEZONE
BEGIN:VEVENT
DTSTART;TZID=Europe/Amsterdam:20260420T090000
DTEND;TZID=Europe/Amsterdam:20260420T100000
DTSTAMP:20260420T121018
CREATED:20250420T070000Z
LAST-MODIFIED:20250420T070000Z
UID:31399-1776675600-1776679200@welzijnkrimpenerwaard.com
SUMMARY:Zumba Schoonhoven Groep 1 - ma 09.00-10.00u
DESCRIPTION:Maandag van 09.15 tot 10.15 uur bij de Oranjeplaats. Combinatie van bewegen op muziek & spierversterkende oefeningen. Seizoen loopt van september tot en met mei.  \nDocente : Nina van den Dool  \n 
URL:https://welzijnkrimpenerwaard.com/activiteit/zumba-schoonhoven-groep-1-ma-09-00-10-00u/
LOCATION:Oranjeplaats\, Oranjeplaats 45 B\, Schoonhoven\, 2871 TK
CATEGORIES:Dansen
ATTACH;FMTTYPE=image/jpeg:https://welzijnkrimpenerwaard.com/wp-content/uploads/2023/03/Werelddansen4.jpg
END:VEVENT
BEGIN:VEVENT
DTSTART;TZID=Europe/Amsterdam:20260420T093000
DTEND;TZID=Europe/Amsterdam:20260420T113000
DTSTAMP:20260420T121018
CREATED:20250420T073000Z
LAST-MODIFIED:20250420T073000Z
UID:31394-1776677400-1776684600@welzijnkrimpenerwaard.com
SUMMARY:Tekenen en schilderen Schoonhoven - ma - 09.30-11.30u
DESCRIPTION:Maandag van 09.30 tot 11.30 uur op de Oranjeplaats. Tijdens de teken- en schilderles bent u zelf vrij te maken wat u wilt. De benodigde materialen mag je zelf mee nemen. Seizoen loopt van september tot en met juni.  Kosten zijn € 30\,00  (10 maanden\, 43 lessen)
URL:https://welzijnkrimpenerwaard.com/activiteit/tekenen-en-schilderen-schoonhoven-ma-09-30-11-30u/
LOCATION:Oranjeplaats\, Oranjeplaats 45 B\, Schoonhoven\, 2871 TK
CATEGORIES:Teken- en Schildergroepen
ATTACH;FMTTYPE=image/jpeg:https://welzijnkrimpenerwaard.com/wp-content/uploads/2023/03/schilderen.jpg
END:VEVENT
BEGIN:VEVENT
DTSTART;TZID=Europe/Amsterdam:20260420T100000
DTEND;TZID=Europe/Amsterdam:20260420T110000
DTSTAMP:20260420T121018
CREATED:20250420T080000Z
LAST-MODIFIED:20250420T080000Z
UID:31440-1776679200-1776682800@welzijnkrimpenerwaard.com
SUMMARY:Fitclub Schoonhoven Oranjeplaats (buiten) - dagelijks - 10.00-11.00u
DESCRIPTION:Lekker bewegen in de buitenlucht voor inwoners van de gemeente Krimpenerwaard van 55 jaar en ouder. \nEr worden verschillende losmakende en spierversterkende oefeningen gedaan die je fitheid\, balans en lenigheid verbeteren. \nKom een keer langs en ervaar zelf of de Fitclub Schoonhoven wat voor jou is! Je bent van maandag t/m vrijdag van 10.00-11.00 uur van harte welkom bij WelZijn Krimpenerwaard\, locatie Schoonhoven (Oranjeplaats 45B) \nInschrijven is niet nodig.Deelname is gratis. 
URL:https://welzijnkrimpenerwaard.com/activiteit/fitclub-schoonhoven-oranjeplaats-buiten-dagelijks-10-00-11-00u/
LOCATION:Oranjeplaats\, Oranjeplaats 45 B\, Schoonhoven\, 2871 TK
CATEGORIES:Sport & Bewegen
ATTACH;FMTTYPE=image/png:https://welzijnkrimpenerwaard.com/wp-content/uploads/2026/04/evenement-logo-33.png
END:VEVENT
BEGIN:VEVENT
DTSTART;TZID=Europe/Amsterdam:20260420T100000
DTEND;TZID=Europe/Amsterdam:20260420T110000
DTSTAMP:20260420T121018
CREATED:20250420T080000Z
LAST-MODIFIED:20250420T080000Z
UID:31396-1776679200-1776682800@welzijnkrimpenerwaard.com
SUMMARY:Zumba Schoonhoven Groep 2 - ma - 10.00-11.00u
DESCRIPTION:Maandag van 10.00 tot 11.00 uur op de Oranjeplaats. Combinatie van bewegen op muziek & spierversterkende oefeningen. \nDocente : Nina van den Dool 
URL:https://welzijnkrimpenerwaard.com/activiteit/zumba-schoonhoven-groep-2-ma-10-00-11-00u/
LOCATION:Oranjeplaats\, Oranjeplaats 45 B\, Schoonhoven\, 2871 TK
CATEGORIES:Dansen
ATTACH;FMTTYPE=image/jpeg:https://welzijnkrimpenerwaard.com/wp-content/uploads/2023/03/Werelddansen4.jpg
END:VEVENT
BEGIN:VEVENT
DTSTART;TZID=Europe/Amsterdam:20260420T101500
DTEND;TZID=Europe/Amsterdam:20260420T110000
DTSTAMP:20260420T121018
CREATED:20250420T081500Z
LAST-MODIFIED:20250420T081500Z
UID:31395-1776680100-1776682800@welzijnkrimpenerwaard.com
SUMMARY:Sport en Bewegen Stolwijk - ma - 10.15-11.00u
DESCRIPTION:Maandag van 10.15 tot 11:00 uur in het Kwartier. Het belangrijkste doel bij deze les is zolang mogelijk beweeglijk blijven. De oefeningen die wij doen zijn erop gericht om zo lang mogelijk zelfstandig te kunnen blijven functioneren. We doen oefeningen op muziek en gebruiken daarbij alle spiergroepen van hoofd tot teen. Te beginnen met loopoefeningen gevolgd door actieve oefeningen op de stoel die spierversterkend zijn. Tot slot een vrolijk spel waarbij je geheugen ook nog eens extra wordt gestimuleerd. Voor iedereen die het fijn vindt om in een groep aan zijn/haar conditie te werken. \nDeze les wordt gegeven door Conny Ponsen\, telefoonnummer 06 12144182. Het seizoen loopt van september tot en met juni.  \nStartdatum seizoen 2025-2026: maandag 1 september 2025. 
URL:https://welzijnkrimpenerwaard.com/activiteit/sport-en-bewegen-stolwijk-ma-10-15-11-00u/
LOCATION:Het Kwartier Stolwijk\, Jan Steenlaan 16b\, Stolwijk\, 2821 VB\, Nederland
CATEGORIES:Sport & Bewegen
ATTACH;FMTTYPE=image/jpeg:https://welzijnkrimpenerwaard.com/wp-content/uploads/2023/03/sport-en-bewegen.jpg
END:VEVENT
BEGIN:VEVENT
DTSTART;TZID=Europe/Amsterdam:20260420T120000
DTEND;TZID=Europe/Amsterdam:20260420T130000
DTSTAMP:20260420T121018
CREATED:20250420T100000Z
LAST-MODIFIED:20250420T100000Z
UID:31397-1776686400-1776690000@welzijnkrimpenerwaard.com
SUMMARY:Open eettafel Oranjeplaats maandag
DESCRIPTION:Samen eten betekent gezelligheid en sociale contacten. Een heerlijke gezonde vers gekookte én betaalbare maaltijd. Zelf geen boodschappen doen en geen afwas! De maaltijden worden verzorgd door Stichting Dagbesteding Krimpenerwaard. \nWat krijgt u hiervoor? \n\nIedere dag een andere soep.\nHoofdgerecht (aardappels\, vlees en verse groente\, of een keer bijvoorbeeld macaroni / nasi).\nBijgerecht\, verse appelmoes of 2e groente.\nIedere dag een lekker toetje.\n\nDe inloop is om 12.00 uur\, de maaltijd wordt om 12.15 uur opgediend. \nEen complete warme maaltijd kost u €7. U kunt ook kiezen voor een strippenkaart van €33\, hier staan 5 maaltijden op. \nWilt u mee eten? U kunt zich iedere werkdag tot 09.15 uur bij Stichting Dagbesteding Krimpenerwaard aanmelden via 06 – 16 65 68 91.
URL:https://welzijnkrimpenerwaard.com/activiteit/open-eettafel-oranjeplaats-maandag/
LOCATION:Oranjeplaats\, Oranjeplaats 45 B\, Schoonhoven\, 2871 TK
CATEGORIES:Algemeen
ATTACH;FMTTYPE=image/png:https://welzijnkrimpenerwaard.com/wp-content/uploads/2026/04/evenement-logo-22.png
END:VEVENT
BEGIN:VEVENT
DTSTART;TZID=Europe/Amsterdam:20260420T130000
DTEND;TZID=Europe/Amsterdam:20260420T140000
DTSTAMP:20260420T121018
CREATED:20250420T110000Z
LAST-MODIFIED:20250420T110000Z
UID:31392-1776690000-1776693600@welzijnkrimpenerwaard.com
SUMMARY:Yoga Schoonhoven - ma - 13.00-14.00u
DESCRIPTION:Maandag van 13.00 tot 14.00 op de Oranjeplaats. Bij hatha yoga gaat het om verbinden en harmoniseren: om het in balans brengen van lichaam en geest. In de yogales gebruiken we hiervoor bepaalde lichaamshoudingen en aandacht voor de adem. De lichaamshoudingen kunnen statisch of dynamisch worden uitgevoerd. De hatha yoga wordt gegeven door Arjanne de Leeuw den Bouter. Seizoen loopt van september tot juni. \nStartdatum seizoen 2025-2026 :  1 sept 2025
URL:https://welzijnkrimpenerwaard.com/activiteit/yoga-schoonhoven-ma-13-00-14-00u/
LOCATION:Oranjeplaats\, Oranjeplaats 45 B\, Schoonhoven\, 2871 TK
CATEGORIES:Yoga
ATTACH;FMTTYPE=image/jpeg:https://welzijnkrimpenerwaard.com/wp-content/uploads/2023/03/yoga.jpg
END:VEVENT
BEGIN:VEVENT
DTSTART;TZID=Europe/Amsterdam:20260420T140000
DTEND;TZID=Europe/Amsterdam:20260420T160000
DTSTAMP:20260420T121018
CREATED:20250420T120000Z
LAST-MODIFIED:20250420T120000Z
UID:31400-1776693600-1776700800@welzijnkrimpenerwaard.com
SUMMARY:Tekenen en Schilderen Stolwijk - ma - 14.00-16.00u
DESCRIPTION:Maandag 14.00 uur in Het Kwartier. Cursus van 10 teken-/ schilderlessen. Er is veel ruimte voor persoonlijke vrijheid\, ook in de materiaalkeuze. Vrij werk of een opdracht van de docent…u bent vrij om daar zelf een keuze in te maken. Enige teken-/ schilder ervaring is in uw voordeel.De lessen worden gegeven door Janneke Vrijdag.  \nNieuwe serie lessen in seizoen 2026Startdatum is maandag 19 januari 2026 en de laatste les is 4 mei 2026 (uitgezonderd de voorjaarsvakantie\, 1e paasdag\, meivakantie en Koningsdag).   \nKosten bedragen € 101\,00 per serie van 10 lessen. 
URL:https://welzijnkrimpenerwaard.com/activiteit/tekenen-en-schilderen-stolwijk-ma-14-00-16-00u/
LOCATION:Het Kwartier Stolwijk\, Jan Steenlaan 16b\, Stolwijk\, 2821 VB\, Nederland
CATEGORIES:Teken- en Schildergroepen
ATTACH;FMTTYPE=image/jpeg:https://welzijnkrimpenerwaard.com/wp-content/uploads/2023/03/schilderen.jpg
END:VEVENT
BEGIN:VEVENT
DTSTART;TZID=Europe/Amsterdam:20260420T141500
DTEND;TZID=Europe/Amsterdam:20260420T151500
DTSTAMP:20260420T121018
CREATED:20250420T121500Z
LAST-MODIFIED:20250420T121500Z
UID:31401-1776694500-1776698100@welzijnkrimpenerwaard.com
SUMMARY:Yoga Schoonhoven - ma - 14.15-15.15u
DESCRIPTION:Maandag van 14.15 tot 15.15u op de Oranjeplaats. Bij hatha yoga gaat het om verbinden en harmoniseren: om het in balans brengen van lichaam en geest. In de yogales gebruiken we hiervoor bepaalde lichaamshoudingen en aandacht voor de adem. De lichaamshoudingen kunnen statisch of dynamisch worden uitgevoerd. De hatha yoga wordt gegeven door Arjanne de Leeuw den Bouter.Seizoen loopt van september tot juni. \nStartdatum seizoen 2025-2026 :  1 sept 2025
URL:https://welzijnkrimpenerwaard.com/activiteit/yoga-schoonhoven-ma-14-15-15-15u/
LOCATION:Oranjeplaats\, Oranjeplaats 45 B\, Schoonhoven\, 2871 TK
CATEGORIES:Yoga
ATTACH;FMTTYPE=image/jpeg:https://welzijnkrimpenerwaard.com/wp-content/uploads/2023/03/yoga.jpg
END:VEVENT
BEGIN:VEVENT
DTSTART;TZID=Europe/Amsterdam:20260420T153000
DTEND;TZID=Europe/Amsterdam:20260420T163000
DTSTAMP:20260420T121018
CREATED:20250420T133000Z
LAST-MODIFIED:20250420T133000Z
UID:31393-1776699000-1776702600@welzijnkrimpenerwaard.com
SUMMARY:Yoga Schoonhoven - ma - 15.30-16.30u
DESCRIPTION:Maandag van 15.30 tot 16.30 op de Oranjeplaats. Bij hatha yoga gaat het om verbinden en harmoniseren: om het in balans brengen van lichaam en geest. In de yogales gebruiken we hiervoor bepaalde lichaamshoudingen en aandacht voor de adem. De lichaamshoudingen kunnen statisch of dynamisch worden uitgevoerd. De hatha yoga wordt gegeven door Arjanne de Leeuw den Bouter.Seizoen loopt van september tot juni. \nStartdatum seizoen 2025-2026 :  1 sept 2025
URL:https://welzijnkrimpenerwaard.com/activiteit/yoga-schoonhoven-ma-15-30-16-30u/
LOCATION:Oranjeplaats\, Oranjeplaats 45 B\, Schoonhoven\, 2871 TK
CATEGORIES:Yoga
ATTACH;FMTTYPE=image/jpeg:https://welzijnkrimpenerwaard.com/wp-content/uploads/2023/03/yoga.jpg
END:VEVENT
END:VCALENDAR